BEGIN:VCALENDAR
VERSION:2.0
PRODID:-//wp-events-plugin.com//7.2.3.1//EN
BEGIN:VEVENT
UID:15@mornpenlawyers.org
DTSTART;TZID=Australia/Melbourne:20250327T180000
DTEND;TZID=Australia/Melbourne:20250327T183000
DTSTAMP:20250307T054113Z
URL:https://mornpenlawyers.org/events/agm-545-for-6-pm-start-jetty-road-br
 ewery-dromana/
SUMMARY:AGM 5:45 for 6 PM start – Jetty Road Brewery\, Dromana
DESCRIPTION:Mornington Peninsula Lawyers Association Inc\n\nAGM: 6 pm start
 \, followed by CPD (ethics) event and dinner
END:VEVENT
BEGIN:VTIMEZONE
TZID:Australia/Melbourne
X-LIC-LOCATION:Australia/Melbourne
BEGIN:DAYLIGHT
DTSTART:20241006T030000
TZOFFSETFROM:+1000
TZOFFSETTO:+1100
TZNAME:AEDT
END:DAYLIGHT
END:VTIMEZONE
END:VCALENDAR