BEGIN:VCALENDAR
VERSION:2.0
PRODID:-//wp-events-plugin.com//7.2.3.1//EN
BEGIN:VEVENT
UID:6@mornpenlawyers.org
DTSTART;VALUE=DATE:20240101
DTEND;VALUE=DATE:20240201
DTSTAMP:20240130T184742Z
URL:https://mornpenlawyers.org/events/agm-by-zoom/
SUMMARY:AGM by Zoom
DESCRIPTION:
END:VEVENT
END:VCALENDAR